BEGIN:VCALENDAR
VERSION:2.0
PRODID: 20210505T000000/9509
CALSCALE:GREGORIAN
METHOD:PUBLISH
BEGIN:VTIMEZONE
TZID:Europe/Prague
BEGIN:STANDARD
END:STANDARD
END:VTIMEZONE
BEGIN:VEVENT
DTSTART:20210505T000000
DTEND:20210506T235900
SUMMARY:Jednotné přijímací zkoušky na víceletá gymnázia
LOCATION:
DESCRIPTION:
PRIORITY:3
END:VEVENT
END:VCALENDAR
