BEGIN:VCALENDAR
VERSION:2.0
PRODID: 20260602T140000/25228
CALSCALE:GREGORIAN
METHOD:PUBLISH
BEGIN:VTIMEZONE
TZID:Europe/Prague
BEGIN:STANDARD
END:STANDARD
END:VTIMEZONE
BEGIN:VEVENT
DTSTART:20260602T140000
DTEND:20260602T150000
SUMMARY: Příběhy našich sousedů - závěrečná prezentace
LOCATION:
DESCRIPTION:
PRIORITY:3
END:VEVENT
END:VCALENDAR
