BEGIN:VCALENDAR
VERSION:2.0
PRODID: 20260527T080000/25226
CALSCALE:GREGORIAN
METHOD:PUBLISH
BEGIN:VTIMEZONE
TZID:Europe/Prague
BEGIN:STANDARD
END:STANDARD
END:VTIMEZONE
BEGIN:VEVENT
DTSTART:20260527T080000
DTEND:20260527T130000
SUMMARY: Olympiáda 4. - 5. tříd
LOCATION:
DESCRIPTION:
PRIORITY:3
END:VEVENT
END:VCALENDAR
