BEGIN:VCALENDAR
VERSION:2.0
PRODID: 20260525T120000/25225
CALSCALE:GREGORIAN
METHOD:PUBLISH
BEGIN:VTIMEZONE
TZID:Europe/Prague
BEGIN:STANDARD
END:STANDARD
END:VTIMEZONE
BEGIN:VEVENT
DTSTART:20260525T120000
DTEND:20260528T120000
SUMMARY: DofE stříbrná expedice 
LOCATION:
DESCRIPTION:Expedice pro žáky, kteří jsou zapojeni do programu DofE
PRIORITY:3
END:VEVENT
END:VCALENDAR
