BEGIN:VCALENDAR
VERSION:2.0
PRODID: 20260515T100000/25220
CALSCALE:GREGORIAN
METHOD:PUBLISH
BEGIN:VTIMEZONE
TZID:Europe/Prague
BEGIN:STANDARD
END:STANDARD
END:VTIMEZONE
BEGIN:VEVENT
DTSTART:20260515T100000
DTEND:20260515T114000
SUMMARY:Turnaj ve vybíjení - 4.r.
LOCATION:
DESCRIPTION:
PRIORITY:3
END:VEVENT
END:VCALENDAR
