BEGIN:VCALENDAR
VERSION:2.0
PRODID: 20260515T080000/25219
CALSCALE:GREGORIAN
METHOD:PUBLISH
BEGIN:VTIMEZONE
TZID:Europe/Prague
BEGIN:STANDARD
END:STANDARD
END:VTIMEZONE
BEGIN:VEVENT
DTSTART:20260515T080000
DTEND:20260515T113000
SUMMARY: Den záchranářů, návštěva záchranné stanice v NJ, 6.B, 6.C
LOCATION:
DESCRIPTION:
PRIORITY:3
END:VEVENT
END:VCALENDAR
