BEGIN:VCALENDAR
VERSION:2.0
PRODID: 20260513T100000/25217
CALSCALE:GREGORIAN
METHOD:PUBLISH
BEGIN:VTIMEZONE
TZID:Europe/Prague
BEGIN:STANDARD
END:STANDARD
END:VTIMEZONE
BEGIN:VEVENT
DTSTART:20260513T100000
DTEND:20260513T180000
SUMMARY:Exkurze - Osvětim, Polsko - 9.ročník
LOCATION:
DESCRIPTION:
PRIORITY:3
END:VEVENT
END:VCALENDAR
