BEGIN:VCALENDAR
VERSION:2.0
PRODID: 20260511T120000/25212
CALSCALE:GREGORIAN
METHOD:PUBLISH
BEGIN:VTIMEZONE
TZID:Europe/Prague
BEGIN:STANDARD
END:STANDARD
END:VTIMEZONE
BEGIN:VEVENT
DTSTART:20260511T120000
DTEND:20260511T120000
SUMMARY:Život v Číně očima české studentky sinologie - 9.r.
LOCATION:
DESCRIPTION:
PRIORITY:3
END:VEVENT
END:VCALENDAR
