BEGIN:VCALENDAR
VERSION:2.0
PRODID: 20260505T080000/25211
CALSCALE:GREGORIAN
METHOD:PUBLISH
BEGIN:VTIMEZONE
TZID:Europe/Prague
BEGIN:STANDARD
END:STANDARD
END:VTIMEZONE
BEGIN:VEVENT
DTSTART:20260505T080000
DTEND:20260505T133000
SUMMARY: Floristická soutěž - okresní kolo
LOCATION:
DESCRIPTION:Držíme palce našim reprezentantům
PRIORITY:3
END:VEVENT
END:VCALENDAR
