BEGIN:VCALENDAR
VERSION:2.0
PRODID: 20260430T080000/25210
CALSCALE:GREGORIAN
METHOD:PUBLISH
BEGIN:VTIMEZONE
TZID:Europe/Prague
BEGIN:STANDARD
END:STANDARD
END:VTIMEZONE
BEGIN:VEVENT
DTSTART:20260430T080000
DTEND:20260430T133000
SUMMARY:Novojičínské orchideje - botanická  výprava pro 7. ročník
LOCATION:
DESCRIPTION:Pro vybrané žáky 7. ročníků (informace p. Pístecký)
PRIORITY:3
END:VEVENT
END:VCALENDAR
