BEGIN:VCALENDAR
VERSION:2.0
PRODID: 20260430T085500/25209
CALSCALE:GREGORIAN
METHOD:PUBLISH
BEGIN:VTIMEZONE
TZID:Europe/Prague
BEGIN:STANDARD
END:STANDARD
END:VTIMEZONE
BEGIN:VEVENT
DTSTART:20260430T085500
DTEND:20260430T104500
SUMMARY:Fotografování třídních kolektivů - 6., 8., 9. ročníky
LOCATION:
DESCRIPTION:
PRIORITY:3
END:VEVENT
END:VCALENDAR
