BEGIN:VCALENDAR
VERSION:2.0
PRODID: 20260427T120000/25207
CALSCALE:GREGORIAN
METHOD:PUBLISH
BEGIN:VTIMEZONE
TZID:Europe/Prague
BEGIN:STANDARD
END:STANDARD
END:VTIMEZONE
BEGIN:VEVENT
DTSTART:20260427T120000
DTEND:20260615T120000
SUMMARY:Plavání 3.A
LOCATION:
DESCRIPTION:10 lekcí - vždy pondělí 8:00 - 9:30
PRIORITY:3
END:VEVENT
END:VCALENDAR
