BEGIN:VCALENDAR
VERSION:2.0
PRODID: 20251022T085500/23332
CALSCALE:GREGORIAN
METHOD:PUBLISH
BEGIN:VTIMEZONE
TZID:Europe/Prague
BEGIN:STANDARD
END:STANDARD
END:VTIMEZONE
BEGIN:VEVENT
DTSTART:20251022T085500
DTEND:20251022T114000
SUMMARY: Jsem jedno ucho - preventivní program 9.ABC
LOCATION:
DESCRIPTION:
PRIORITY:3
END:VEVENT
END:VCALENDAR
