BEGIN:VCALENDAR
VERSION:2.0
PRODID: 20250925T103000/23205
CALSCALE:GREGORIAN
METHOD:PUBLISH
BEGIN:VTIMEZONE
TZID:Europe/Prague
BEGIN:STANDARD
END:STANDARD
END:VTIMEZONE
BEGIN:VEVENT
DTSTART:20250925T103000
DTEND:20250925T130000
SUMMARY:Edukační program Etiketa pro mladé dámy a gentlemany (Žerotínský zámek) - 4.B, 4.C
LOCATION:
DESCRIPTION:4.C - 10:30 - 11:30
4.B - 12:00 - 13:00

PRIORITY:3
END:VEVENT
END:VCALENDAR
