BEGIN:VCALENDAR
VERSION:2.0
PRODID: 20250627T083000/22076
CALSCALE:GREGORIAN
METHOD:PUBLISH
BEGIN:VTIMEZONE
TZID:Europe/Prague
BEGIN:STANDARD
END:STANDARD
END:VTIMEZONE
BEGIN:VEVENT
DTSTART:20250627T083000
DTEND:20250627T100000
SUMMARY:Předání vysvědčení
LOCATION:
DESCRIPTION:
PRIORITY:3
END:VEVENT
END:VCALENDAR
