BEGIN:VCALENDAR
VERSION:2.0
PRODID: 20250623T130000/22070
CALSCALE:GREGORIAN
METHOD:PUBLISH
BEGIN:VTIMEZONE
TZID:Europe/Prague
BEGIN:STANDARD
END:STANDARD
END:VTIMEZONE
BEGIN:VEVENT
DTSTART:20250623T130000
DTEND:20250623T183000
SUMMARY:Výlet školní družina -  Skalka
LOCATION:
DESCRIPTION:
PRIORITY:3
END:VEVENT
END:VCALENDAR
