BEGIN:VCALENDAR
VERSION:2.0
PRODID: 20250620T090000/22069
CALSCALE:GREGORIAN
METHOD:PUBLISH
BEGIN:VTIMEZONE
TZID:Europe/Prague
BEGIN:STANDARD
END:STANDARD
END:VTIMEZONE
BEGIN:VEVENT
DTSTART:20250620T090000
DTEND:20250620T125000
SUMMARY:Přednáška 7.ABC Sexuální výchova
LOCATION:
DESCRIPTION:9:00 - 10:10 1. skupina
10:20 - 11:30 2. skupina
11:40 - 12:50 3. skupina
PRIORITY:3
END:VEVENT
END:VCALENDAR
