BEGIN:VCALENDAR
VERSION:2.0
PRODID: 20250618T080000/22064
CALSCALE:GREGORIAN
METHOD:PUBLISH
BEGIN:VTIMEZONE
TZID:Europe/Prague
BEGIN:STANDARD
END:STANDARD
END:VTIMEZONE
BEGIN:VEVENT
DTSTART:20250618T080000
DTEND:20250618T114000
SUMMARY:Zdravá 5 - 2.AB
LOCATION:
DESCRIPTION:08:00 - 09:40 - 2.A
10:00 - 11:40 - 2.B

PRIORITY:3
END:VEVENT
END:VCALENDAR
