BEGIN:VCALENDAR
VERSION:2.0
PRODID: 20250613T080000/22061
CALSCALE:GREGORIAN
METHOD:PUBLISH
BEGIN:VTIMEZONE
TZID:Europe/Prague
BEGIN:STANDARD
END:STANDARD
END:VTIMEZONE
BEGIN:VEVENT
DTSTART:20250613T080000
DTEND:20250613T120000
SUMMARY:Survival - pro 6.-7.r./ Den jazyků- pro 8.-9.r.
LOCATION:
DESCRIPTION:
PRIORITY:3
END:VEVENT
END:VCALENDAR
