BEGIN:VCALENDAR
VERSION:2.0
PRODID: 20250609T080000/22054
CALSCALE:GREGORIAN
METHOD:PUBLISH
BEGIN:VTIMEZONE
TZID:Europe/Prague
BEGIN:STANDARD
END:STANDARD
END:VTIMEZONE
BEGIN:VEVENT
DTSTART:20250609T080000
DTEND:20250609T130000
SUMMARY: Expedice Bezouši 25
LOCATION:
DESCRIPTION:Pro vybrané žáky 6. tříd
PRIORITY:3
END:VEVENT
END:VCALENDAR
