BEGIN:VCALENDAR
VERSION:2.0
PRODID: 20250605T100000/22050
CALSCALE:GREGORIAN
METHOD:PUBLISH
BEGIN:VTIMEZONE
TZID:Europe/Prague
BEGIN:STANDARD
END:STANDARD
END:VTIMEZONE
BEGIN:VEVENT
DTSTART:20250605T100000
DTEND:20250605T104500
SUMMARY:Preventivní program:  Trestní odpovědnost - 7.B
LOCATION:
DESCRIPTION:
PRIORITY:3
END:VEVENT
END:VCALENDAR
