BEGIN:VCALENDAR
VERSION:2.0
PRODID: 20250212T080000/21006
CALSCALE:GREGORIAN
METHOD:PUBLISH
BEGIN:VTIMEZONE
TZID:Europe/Prague
BEGIN:STANDARD
END:STANDARD
END:VTIMEZONE
BEGIN:VEVENT
DTSTART:20250212T080000
DTEND:20250212T140000
SUMMARY:Okresní kolo Konverzační soutěže v anglickém jazyce
LOCATION:
DESCRIPTION:Držíme palce našim zástupcům:-)
PRIORITY:3
END:VEVENT
END:VCALENDAR
