BEGIN:VCALENDAR
VERSION:2.0
PRODID: 20241127T080000/20850
CALSCALE:GREGORIAN
METHOD:PUBLISH
BEGIN:VTIMEZONE
TZID:Europe/Prague
BEGIN:STANDARD
END:STANDARD
END:VTIMEZONE
BEGIN:VEVENT
DTSTART:20241127T080000
DTEND:20241127T100000
SUMMARY:Školní kolo dějepisné olympiády
LOCATION:
DESCRIPTION:
PRIORITY:3
END:VEVENT
END:VCALENDAR
