BEGIN:VCALENDAR
VERSION:2.0
PRODID: 20240530T080000/20327
CALSCALE:GREGORIAN
METHOD:PUBLISH
BEGIN:VTIMEZONE
TZID:Europe/Prague
BEGIN:STANDARD
END:STANDARD
END:VTIMEZONE
BEGIN:VEVENT
DTSTART:20240530T080000
DTEND:20240530T140000
SUMMARY:Školní výlet do ZOO Ostrava - 1.A, 1.B
LOCATION:
DESCRIPTION:
PRIORITY:3
END:VEVENT
END:VCALENDAR
