BEGIN:VCALENDAR
VERSION:2.0
PRODID: 20231205T080000/19472
CALSCALE:GREGORIAN
METHOD:PUBLISH
BEGIN:VTIMEZONE
TZID:Europe/Prague
BEGIN:STANDARD
END:STANDARD
END:VTIMEZONE
BEGIN:VEVENT
DTSTART:20231205T080000
DTEND:20231205T130000
SUMMARY:Projektový den na SŠTZ NJ 
LOCATION:
DESCRIPTION:Pro žáky 9.r.
PRIORITY:3
END:VEVENT
END:VCALENDAR
