BEGIN:VCALENDAR
VERSION:2.0
PRODID: 20230621T120000/17491
CALSCALE:GREGORIAN
METHOD:PUBLISH
BEGIN:VTIMEZONE
TZID:Europe/Prague
BEGIN:STANDARD
END:STANDARD
END:VTIMEZONE
BEGIN:VEVENT
DTSTART:20230621T120000
DTEND:20230623T120000
SUMMARY:Projektový den: Voda - 5.A, 5.B
LOCATION:
DESCRIPTION:5.A - 22.6.2023 - 8:00 - 12:00
5.B - 23.6.2023 - 8:00 - 12:00
5.C - 21.6.2023 - 8:00 - 12:00
PRIORITY:3
END:VEVENT
END:VCALENDAR
