BEGIN:VCALENDAR
VERSION:2.0
PRODID: 20230317T080000/14687
CALSCALE:GREGORIAN
METHOD:PUBLISH
BEGIN:VTIMEZONE
TZID:Europe/Prague
BEGIN:STANDARD
END:STANDARD
END:VTIMEZONE
BEGIN:VEVENT
DTSTART:20230317T080000
DTEND:20230317T090000
SUMMARY: Matematický klokan (2. - 9. ročník)
LOCATION:
DESCRIPTION:2. stupeň se sejde ve školní jídelně
PRIORITY:3
END:VEVENT
END:VCALENDAR
