BEGIN:VCALENDAR
VERSION:2.0
PRODID: 20230125T143000/12979
CALSCALE:GREGORIAN
METHOD:PUBLISH
BEGIN:VTIMEZONE
TZID:Europe/Prague
BEGIN:STANDARD
END:STANDARD
END:VTIMEZONE
BEGIN:VEVENT
DTSTART:20230125T143000
DTEND:20230125T153000
SUMMARY:Vstoupení flétnového souboru na Vítání občánků
LOCATION:
DESCRIPTION:
PRIORITY:3
END:VEVENT
END:VCALENDAR
