BEGIN:VCALENDAR
VERSION:2.0
PRODID: 20221130T085500/12631
CALSCALE:GREGORIAN
METHOD:PUBLISH
BEGIN:VTIMEZONE
TZID:Europe/Prague
BEGIN:STANDARD
END:STANDARD
END:VTIMEZONE
BEGIN:VEVENT
DTSTART:20221130T085500
DTEND:20221130T105500
SUMMARY:Dopravní výchova 1.ABC
LOCATION:
DESCRIPTION:Preventivní program: 1.A v 8:55, 1.B v 10:00, 1.C v 10:55
PRIORITY:3
END:VEVENT
END:VCALENDAR
