BEGIN:VCALENDAR
VERSION:2.0
PRODID: 20221006T150000/12335
CALSCALE:GREGORIAN
METHOD:PUBLISH
BEGIN:VTIMEZONE
TZID:Europe/Prague
BEGIN:STANDARD
END:STANDARD
END:VTIMEZONE
BEGIN:VEVENT
DTSTART:20221006T150000
DTEND:20221006T170000
SUMMARY:Třídní schůzky - 1.A, 2.A, 4.BC, 5.A
LOCATION:
DESCRIPTION:
PRIORITY:3
END:VEVENT
END:VCALENDAR
